BEGIN:VCALENDAR
VERSION:2.0
PRODID:-//Adrenaline All Stars - ECPv6.15.20//NONSGML v1.0//EN
CALSCALE:GREGORIAN
METHOD:PUBLISH
X-WR-CALNAME:Adrenaline All Stars
X-ORIGINAL-URL:https://adrenalinekaty.com
X-WR-CALDESC:Events for Adrenaline All Stars
REFRESH-INTERVAL;VALUE=DURATION:PT1H
X-Robots-Tag:noindex
X-PUBLISHED-TTL:PT1H
BEGIN:VTIMEZONE
TZID:America/Chicago
BEGIN:DAYLIGHT
TZOFFSETFROM:-0600
TZOFFSETTO:-0500
TZNAME:CDT
DTSTART:20250309T080000
END:DAYLIGHT
BEGIN:STANDARD
TZOFFSETFROM:-0500
TZOFFSETTO:-0600
TZNAME:CST
DTSTART:20251102T070000
END:STANDARD
BEGIN:DAYLIGHT
TZOFFSETFROM:-0600
TZOFFSETTO:-0500
TZNAME:CDT
DTSTART:20260308T080000
END:DAYLIGHT
BEGIN:STANDARD
TZOFFSETFROM:-0500
TZOFFSETTO:-0600
TZNAME:CST
DTSTART:20261101T070000
END:STANDARD
BEGIN:DAYLIGHT
TZOFFSETFROM:-0600
TZOFFSETTO:-0500
TZNAME:CDT
DTSTART:20270314T080000
END:DAYLIGHT
BEGIN:STANDARD
TZOFFSETFROM:-0500
TZOFFSETTO:-0600
TZNAME:CST
DTSTART:20271107T070000
END:STANDARD
END:VTIMEZONE
BEGIN:VEVENT
DTSTART;VALUE=DATE:20260622
DTEND;VALUE=DATE:20260626
DTSTAMP:20260423T053048
CREATED:20260323T214008Z
LAST-MODIFIED:20260323T215752Z
UID:3116-1782086400-1782431999@adrenalinekaty.com
SUMMARY:Spy Training Week
DESCRIPTION:[vc_row][vc_column][vc_single_image image=”2504″ img_size=”full” alignment=”center” css=””][vc_empty_space][vc_column_text css=””]Embark on a Thrilling Adventure at our Kids Summer Spy Camp! Calling all aspiring secret agents! Join us for an action-packed week filled with espionage\, code-breaking\, and stealthy missions. Enroll now and prepare for an undercover adventure like no other! \nDate: June 22nd – June 25th\nTime: 9:00am – 4:00pm\nAges: 6+ \nCost: $199/week\nEarly Bird Special: $175 until April 30 (12.5% off) \n*All purchases are final. No refunds\, exchanges\, or account credits will be given under any circumstances. There are no makeup days or refunds for missed days available.[/vc_column_text][vc_empty_space][vc_custom_heading text=”REGISTER NOW” font_container=”tag:h2|text_align:center|color:%23ffffff” use_theme_fonts=”yes” css=”.vc_custom_1625001535509{padding-top: 5px !important;padding-bottom: 5px !important;background-color: #cc1921 !important;}”][vc_separator style=”solid” color=”#000000″ padding_top=”10″ padding_bottom=”20″]\n\n                \n                        \n							"*" indicates required fields \n                        \n                        Parent/Guardian's Name*\n                            \n                            \n                                                    \n                                                    First\n                                                \n                            \n                            \n                                                    \n                                                    Last\n                                                \n                            \n                        Email*\n                            \n                        Phone*Address*    \n                    \n                         \n                                        \n                                        Street Address\n                                    \n                                    \n                                    City\n                                 \n                                    \n                                    ZIP Code\n                                \n                    \n                Participants\n\n	\n\n		\n		\n							\n					Child's Name				\n							\n					Age				\n							\n					Select Weeks				\n							\n					Subtotal				\n						Actions\n		\n		\n\n		\n		\n							 \n							 \n							 \n							 \n						\n				\n					Edit\n										Delete\n				\n			\n		\n		\n\n		\n		\n			\n				There are no Entries.			\n		\n		\n\n	\n\n	\n				Add Participant\n				\n			\n				Maximum number of entries reached.\n			 \n\n*All purchases are final\, no refunds\, exchanges\, or account credits\, will be given under any circumstances. There are no makeup days or refunds for missed days available. This is a drop off event only!\n \nSignature*Summer Camp Registration*\n					\n					\n						Price:\n						$25.00\n					\n					\n					\n				Coupon Total\n							\n						Credit Card*Card Details\n					\n					Cardholder Name\n				\n			\n          \n            \n            \n            \n            \n            \n            \n            \n            \n            \n            \n            \n            \n            \n        \n                        \n                        \n		                \n		                \n[/vc_column][/vc_row][vc_row][vc_column][vc_column_text]\n[/vc_column_text][/vc_column][/vc_row]
URL:https://adrenalinekaty.com/event/spy-training-week-3/
CATEGORIES:Summer Camps
ATTACH;FMTTYPE=image/jpeg:https://adrenalinekaty.com/wp-content/uploads/2024/03/minispy.jpg
END:VEVENT
BEGIN:VEVENT
DTSTART;VALUE=DATE:20260629
DTEND;VALUE=DATE:20260701
DTSTAMP:20260423T053049
CREATED:20260323T214024Z
LAST-MODIFIED:20260323T220234Z
UID:3117-1782691200-1782863999@adrenalinekaty.com
SUMMARY:2 Day Summer Camp Extravaganza
DESCRIPTION:[vc_row][vc_column][vc_single_image image=”2453″ img_size=”full” alignment=”center” css=””][vc_empty_space][vc_column_text css=””]If you’re looking for a summer camp that will keep your children active and engaged\, building life skills\, meeting new friends\, and having a ton of fun\, look no further! We’ll have themed crafts\, games\, and activities and much more! Children will be active\, make new friendships\, and challenge themselves to try new things. \nDate: June 29th – June 30th\nTime: 9:00am – 4:00pm\nAges: 6+ \nCost: $99/week \n*All purchases are final. No refunds\, exchanges\, or account credits will be given under any circumstances. There are no makeup days or refunds for missed days available.[/vc_column_text][vc_empty_space][vc_custom_heading text=”REGISTER NOW” font_container=”tag:h2|text_align:center|color:%23ffffff” use_theme_fonts=”yes” css=”.vc_custom_1625001535509{padding-top: 5px !important;padding-bottom: 5px !important;background-color: #cc1921 !important;}”][vc_separator style=”solid” color=”#000000″ padding_top=”10″ padding_bottom=”20″]\n                \n                        \n							"*" indicates required fields \n                        \n                        Parent/Guardian's Name*\n                            \n                            \n                                                    \n                                                    First\n                                                \n                            \n                            \n                                                    \n                                                    Last\n                                                \n                            \n                        Email*\n                            \n                        Phone*Address*    \n                    \n                         \n                                        \n                                        Street Address\n                                    \n                                    \n                                    City\n                                 \n                                    \n                                    ZIP Code\n                                \n                    \n                Participants\n\n	\n\n		\n		\n							\n					Child's Name				\n							\n					Age				\n							\n					Select Weeks				\n							\n					Subtotal				\n						Actions\n		\n		\n\n		\n		\n							 \n							 \n							 \n							 \n						\n				\n					Edit\n										Delete\n				\n			\n		\n		\n\n		\n		\n			\n				There are no Entries.			\n		\n		\n\n	\n\n	\n				Add Participant\n				\n			\n				Maximum number of entries reached.\n			 \n\n*All purchases are final\, no refunds\, exchanges\, or account credits\, will be given under any circumstances. There are no makeup days or refunds for missed days available. This is a drop off event only!\n \nSignature*Summer Camp Registration*\n					\n					\n						Price:\n						$25.00\n					\n					\n					\n				Coupon Total\n							\n						Credit Card*Card Details\n					\n					Cardholder Name\n				\n			\n          \n            \n            \n            \n            \n            \n            \n            \n            \n            \n            \n            \n            \n            \n        \n                        \n                        \n		                \n		                \n[/vc_column][/vc_row][vc_row][vc_column][vc_column_text]\n[/vc_column_text][/vc_column][/vc_row]
URL:https://adrenalinekaty.com/event/2-day-summer-camp-extravaganza/
CATEGORIES:Summer Camps
ATTACH;FMTTYPE=image/jpeg:https://adrenalinekaty.com/wp-content/uploads/2024/02/2day.jpg
END:VEVENT
BEGIN:VEVENT
DTSTART;VALUE=DATE:20260706
DTEND;VALUE=DATE:20260710
DTSTAMP:20260423T053049
CREATED:20260323T214036Z
LAST-MODIFIED:20260323T220020Z
UID:3118-1783296000-1783641599@adrenalinekaty.com
SUMMARY:Survivor Week
DESCRIPTION:[vc_row][vc_column][vc_single_image image=”2448″ img_size=”full” alignment=”center” css=””][vc_empty_space][vc_column_text css=””]Get Ready to Outwit\, Outplay\, and Outlast at our Kids Summer Survivor Week! Join us for an exhilarating week of adventure\, teamwork\, and challenges. Campers will forge new friendships and discover their inner survivor. With exciting competitions and thrilling obstacle courses\, this summer promises to be an unforgettable journey of resilience and fun. Are you ready to take on the ultimate survivor challenge? Sign up now and let the adventure begin! \nDate:  July 6th – July 9th\nTime: 9:00am – 4:00pm\nAges: 6+ \nCost: $199/week\nEarly Bird Special: $175 until April 30 (12.5% off) \n*All purchases are final. No refunds\, exchanges\, or account credits will be given under any circumstances. There are no makeup days or refunds for missed days available. \n[/vc_column_text][vc_empty_space][vc_custom_heading text=”REGISTER NOW” font_container=”tag:h2|text_align:center|color:%23ffffff” use_theme_fonts=”yes” css=”.vc_custom_1625001535509{padding-top: 5px !important;padding-bottom: 5px !important;background-color: #cc1921 !important;}”][vc_separator style=”solid” color=”#000000″ padding_top=”10″ padding_bottom=”20″]\n                \n                        \n							"*" indicates required fields \n                        \n                        Parent/Guardian's Name*\n                            \n                            \n                                                    \n                                                    First\n                                                \n                            \n                            \n                                                    \n                                                    Last\n                                                \n                            \n                        Email*\n                            \n                        Phone*Address*    \n                    \n                         \n                                        \n                                        Street Address\n                                    \n                                    \n                                    City\n                                 \n                                    \n                                    ZIP Code\n                                \n                    \n                Participants\n\n	\n\n		\n		\n							\n					Child's Name				\n							\n					Age				\n							\n					Select Weeks				\n							\n					Subtotal				\n						Actions\n		\n		\n\n		\n		\n							 \n							 \n							 \n							 \n						\n				\n					Edit\n										Delete\n				\n			\n		\n		\n\n		\n		\n			\n				There are no Entries.			\n		\n		\n\n	\n\n	\n				Add Participant\n				\n			\n				Maximum number of entries reached.\n			 \n\n*All purchases are final\, no refunds\, exchanges\, or account credits\, will be given under any circumstances. There are no makeup days or refunds for missed days available. This is a drop off event only!\n \nSignature*Summer Camp Registration*\n					\n					\n						Price:\n						$25.00\n					\n					\n					\n				Coupon Total\n							\n						Credit Card*Card Details\n					\n					Cardholder Name\n				\n			\n          \n            \n            \n            \n            \n            \n            \n            \n            \n            \n            \n            \n            \n            \n        \n                        \n                        \n		                \n		                \n[/vc_column][/vc_row][vc_row][vc_column][vc_column_text]\n[/vc_column_text][/vc_column][/vc_row]\n 
URL:https://adrenalinekaty.com/event/survivor-summer-day-camp/
CATEGORIES:Summer Camps
ATTACH;FMTTYPE=image/jpeg:https://adrenalinekaty.com/wp-content/uploads/2024/02/stem.jpg
END:VEVENT
BEGIN:VEVENT
DTSTART;VALUE=DATE:20260713
DTEND;VALUE=DATE:20260717
DTSTAMP:20260423T053049
CREATED:20260323T214042Z
LAST-MODIFIED:20260323T220719Z
UID:3119-1783900800-1784246399@adrenalinekaty.com
SUMMARY:Lights\, Camera\, Action Week
DESCRIPTION:[vc_row][vc_column][vc_single_image image=”2538″ img_size=”full” alignment=”center” css=””][vc_empty_space][vc_column_text css=””]Ignite your child’s imagination this summer! Our Lights\, Camera\, Action camp offers a magical journey through the world of theater. Young stars will explore everything from creative movement to storytelling\, all while building confidence and making new friends. It’s a week of fun\, laughter\, learning\, and performance that’ll make memories to last a lifetime. Enroll now and watch your little actor take center stage! \nDate: July 13th – July 16th\nTime: 9:00am – 4:00pm\nAges: 6+ \nCost: $199/week\nEarly Bird Special: $175 until April 30 (12.5% off) \n*All purchases are final. No refunds\, exchanges\, or account credits will be given under any circumstances. There are no makeup days or refunds for missed days available.[/vc_column_text][vc_empty_space][vc_custom_heading text=”REGISTER NOW” font_container=”tag:h2|text_align:center|color:%23ffffff” use_theme_fonts=”yes” css=”.vc_custom_1625001535509{padding-top: 5px !important;padding-bottom: 5px !important;background-color: #cc1921 !important;}”][vc_separator style=”solid” color=”#000000″ padding_top=”10″ padding_bottom=”20″]\n                \n                        \n							"*" indicates required fields \n                        \n                        Parent/Guardian's Name*\n                            \n                            \n                                                    \n                                                    First\n                                                \n                            \n                            \n                                                    \n                                                    Last\n                                                \n                            \n                        Email*\n                            \n                        Phone*Address*    \n                    \n                         \n                                        \n                                        Street Address\n                                    \n                                    \n                                    City\n                                 \n                                    \n                                    ZIP Code\n                                \n                    \n                Participants\n\n	\n\n		\n		\n							\n					Child's Name				\n							\n					Age				\n							\n					Select Weeks				\n							\n					Subtotal				\n						Actions\n		\n		\n\n		\n		\n							 \n							 \n							 \n							 \n						\n				\n					Edit\n										Delete\n				\n			\n		\n		\n\n		\n		\n			\n				There are no Entries.			\n		\n		\n\n	\n\n	\n				Add Participant\n				\n			\n				Maximum number of entries reached.\n			 \n\n*All purchases are final\, no refunds\, exchanges\, or account credits\, will be given under any circumstances. There are no makeup days or refunds for missed days available. This is a drop off event only!\n \nSignature*Summer Camp Registration*\n					\n					\n						Price:\n						$25.00\n					\n					\n					\n				Coupon Total\n							\n						Credit Card*Card Details\n					\n					Cardholder Name\n				\n			\n          \n            \n            \n            \n            \n            \n            \n            \n            \n            \n            \n            \n            \n            \n        \n                        \n                        \n		                \n		                \n[/vc_column][/vc_row][vc_row][vc_column][vc_column_text]\n[/vc_column_text][/vc_column][/vc_row]
URL:https://adrenalinekaty.com/event/lights-camera-action-summer-camp/
CATEGORIES:Summer Camps
ATTACH;FMTTYPE=image/jpeg:https://adrenalinekaty.com/wp-content/uploads/2024/04/istockphoto-580107598-612x612-1.jpg
END:VEVENT
BEGIN:VEVENT
DTSTART;VALUE=DATE:20260720
DTEND;VALUE=DATE:20260724
DTSTAMP:20260423T053049
CREATED:20260323T214052Z
LAST-MODIFIED:20260323T220713Z
UID:3120-1784505600-1784851199@adrenalinekaty.com
SUMMARY:Picasso Art Week
DESCRIPTION:[vc_row][vc_column][vc_single_image image=”2457″ img_size=”full” alignment=”center” css=””][vc_empty_space][vc_column_text css=””]This camp will be all about building your child’s creativity through art\, games and activities. They’ll get to take home their own masterpiece at the end too! \nDate: July 20th – July 23rd\nTime: 9:00am – 4:00pm\nAges: 6+ \nCost: $199/week\nEarly Bird Special: $175 until April 30 (12.5% off) \n*All purchases are final. No refunds\, exchanges\, or account credits will be given under any circumstances. There are no makeup days or refunds for missed days available.[/vc_column_text][vc_empty_space][vc_custom_heading text=”REGISTER NOW” font_container=”tag:h2|text_align:center|color:%23ffffff” use_theme_fonts=”yes” css=”.vc_custom_1625001535509{padding-top: 5px !important;padding-bottom: 5px !important;background-color: #cc1921 !important;}”][vc_separator style=”solid” color=”#000000″ padding_top=”10″ padding_bottom=”20″]\n                \n                        \n							"*" indicates required fields \n                        \n                        Parent/Guardian's Name*\n                            \n                            \n                                                    \n                                                    First\n                                                \n                            \n                            \n                                                    \n                                                    Last\n                                                \n                            \n                        Email*\n                            \n                        Phone*Address*    \n                    \n                         \n                                        \n                                        Street Address\n                                    \n                                    \n                                    City\n                                 \n                                    \n                                    ZIP Code\n                                \n                    \n                Participants\n\n	\n\n		\n		\n							\n					Child's Name				\n							\n					Age				\n							\n					Select Weeks				\n							\n					Subtotal				\n						Actions\n		\n		\n\n		\n		\n							 \n							 \n							 \n							 \n						\n				\n					Edit\n										Delete\n				\n			\n		\n		\n\n		\n		\n			\n				There are no Entries.			\n		\n		\n\n	\n\n	\n				Add Participant\n				\n			\n				Maximum number of entries reached.\n			 \n\n*All purchases are final\, no refunds\, exchanges\, or account credits\, will be given under any circumstances. There are no makeup days or refunds for missed days available. This is a drop off event only!\n \nSignature*Summer Camp Registration*\n					\n					\n						Price:\n						$25.00\n					\n					\n					\n				Coupon Total\n							\n						Credit Card*Card Details\n					\n					Cardholder Name\n				\n			\n          \n            \n            \n            \n            \n            \n            \n            \n            \n            \n            \n            \n            \n            \n        \n                        \n                        \n		                \n		                \n[/vc_column][/vc_row][vc_row][vc_column][vc_column_text]\n  \n  \n[/vc_column_text][/vc_column][/vc_row]
URL:https://adrenalinekaty.com/event/picasso-art-camp/
CATEGORIES:Summer Camps
ATTACH;FMTTYPE=image/jpeg:https://adrenalinekaty.com/wp-content/uploads/2024/02/picamp.jpg
END:VEVENT
BEGIN:VEVENT
DTSTART;VALUE=DATE:20260727
DTEND;VALUE=DATE:20260731
DTSTAMP:20260423T053049
CREATED:20260323T214100Z
LAST-MODIFIED:20260323T220533Z
UID:3121-1785110400-1785455999@adrenalinekaty.com
SUMMARY:Olympics Week
DESCRIPTION:[vc_row][vc_column][vc_single_image image=”2459″ img_size=”full” alignment=”center” css=””][vc_empty_space][vc_column_text css=””]Get ready to unleash your inner champion at our Olympics Week Camp! Join us for an exhilarating week of sportsmanship\, teamwork\, and Olympic-inspired fun. Campers will have the chance to participate in a variety of games and challenges that celebrate the spirit of the Olympics. With opportunities to learn new skills and make friends! This summer promises to be a gold-medal experience for every young athlete. Don’t miss out on the excitement – enroll now and let the games begin! \nDate: July 27th – July 30th\nTime: 9:00am – 4:00pm\nAges: 6+ \nCost: $199/week\nEarly Bird Special: $175 until April 30 (12.5% off) \n*All purchases are final. No refunds\, exchanges\, or account credits will be given under any circumstances. There are no makeup days or refunds for missed days available.[/vc_column_text][vc_empty_space][vc_custom_heading text=”REGISTER NOW” font_container=”tag:h2|text_align:center|color:%23ffffff” use_theme_fonts=”yes” css=”.vc_custom_1625001535509{padding-top: 5px !important;padding-bottom: 5px !important;background-color: #cc1921 !important;}”][vc_separator style=”solid” color=”#000000″ padding_top=”10″ padding_bottom=”20″]\n                \n                        \n							"*" indicates required fields \n                        \n                        Parent/Guardian's Name*\n                            \n                            \n                                                    \n                                                    First\n                                                \n                            \n                            \n                                                    \n                                                    Last\n                                                \n                            \n                        Email*\n                            \n                        Phone*Address*    \n                    \n                         \n                                        \n                                        Street Address\n                                    \n                                    \n                                    City\n                                 \n                                    \n                                    ZIP Code\n                                \n                    \n                Participants\n\n	\n\n		\n		\n							\n					Child's Name				\n							\n					Age				\n							\n					Select Weeks				\n							\n					Subtotal				\n						Actions\n		\n		\n\n		\n		\n							 \n							 \n							 \n							 \n						\n				\n					Edit\n										Delete\n				\n			\n		\n		\n\n		\n		\n			\n				There are no Entries.			\n		\n		\n\n	\n\n	\n				Add Participant\n				\n			\n				Maximum number of entries reached.\n			 \n\n*All purchases are final\, no refunds\, exchanges\, or account credits\, will be given under any circumstances. There are no makeup days or refunds for missed days available. This is a drop off event only!\n \nSignature*Summer Camp Registration*\n					\n					\n						Price:\n						$25.00\n					\n					\n					\n				Coupon Total\n							\n						Credit Card*Card Details\n					\n					Cardholder Name\n				\n			\n          \n            \n            \n            \n            \n            \n            \n            \n            \n            \n            \n            \n            \n            \n        \n                        \n                        \n		                \n		                \n[/vc_column][/vc_row][vc_row][vc_column][vc_column_text]\n  \n[/vc_column_text][/vc_column][/vc_row]
URL:https://adrenalinekaty.com/event/olympics-week-2/
CATEGORIES:Summer Camps
ATTACH;FMTTYPE=image/jpeg:https://adrenalinekaty.com/wp-content/uploads/2024/02/kidsoly.jpg
END:VEVENT
END:VCALENDAR