BEGIN:VCALENDAR
VERSION:2.0
PRODID:-//Adrenaline All Stars - ECPv6.15.20//NONSGML v1.0//EN
CALSCALE:GREGORIAN
METHOD:PUBLISH
X-WR-CALNAME:Adrenaline All Stars
X-ORIGINAL-URL:https://adrenalinekaty.com
X-WR-CALDESC:Events for Adrenaline All Stars
REFRESH-INTERVAL;VALUE=DURATION:PT1H
X-Robots-Tag:noindex
X-PUBLISHED-TTL:PT1H
BEGIN:VTIMEZONE
TZID:America/Chicago
BEGIN:DAYLIGHT
TZOFFSETFROM:-0600
TZOFFSETTO:-0500
TZNAME:CDT
DTSTART:20250309T080000
END:DAYLIGHT
BEGIN:STANDARD
TZOFFSETFROM:-0500
TZOFFSETTO:-0600
TZNAME:CST
DTSTART:20251102T070000
END:STANDARD
BEGIN:DAYLIGHT
TZOFFSETFROM:-0600
TZOFFSETTO:-0500
TZNAME:CDT
DTSTART:20260308T080000
END:DAYLIGHT
BEGIN:STANDARD
TZOFFSETFROM:-0500
TZOFFSETTO:-0600
TZNAME:CST
DTSTART:20261101T070000
END:STANDARD
BEGIN:DAYLIGHT
TZOFFSETFROM:-0600
TZOFFSETTO:-0500
TZNAME:CDT
DTSTART:20270314T080000
END:DAYLIGHT
BEGIN:STANDARD
TZOFFSETFROM:-0500
TZOFFSETTO:-0600
TZNAME:CST
DTSTART:20271107T070000
END:STANDARD
END:VTIMEZONE
BEGIN:VEVENT
DTSTART;TZID=America/Chicago:20260418T123000
DTEND;TZID=America/Chicago:20260418T140000
DTSTAMP:20260421T071906
CREATED:20260324T175606Z
LAST-MODIFIED:20260325T204615Z
UID:3127-1776515400-1776520800@adrenalinekaty.com
SUMMARY:Free Cheer Clinic
DESCRIPTION:[vc_row][vc_column][vc_single_image image=”3128″ img_size=”full” alignment=”center” css=””][vc_empty_space][/vc_column][/vc_row][vc_row][vc_column][vc_column_text css=””]Join us for a fun and high-energy Cheer Clinic at Adrenaline Athletics! This clinic is perfect for athletes of all skill levels who want to improve their cheer skills and build confidence.\nAthletes will work on motions\, jumps\, tumbling\, and basic stunting with hands-on coaching in a positive and supportive environment. Whether you’re new to cheer or looking to get better\, this clinic is a great opportunity to learn and grow. \nWhat to Expect: \n\nSkill training for all levels\nTumbling and jump technique\nStunting basics\nFun\, structured environment\n\nCome train\, improve\, and have fun with us at Adrenaline Athletics! \nDate: 4/18/2026\nTime: 12:30 pm–2:00 pm\nAges: 5+[/vc_column_text][vc_empty_space][/vc_column][/vc_row][vc_row][vc_column][vc_custom_heading text=”REGISTER NOW” font_container=”tag:h2|text_align:left|color:%23000000″ use_theme_fonts=”yes” css=””][vc_separator style=”solid” color=”#000000″ padding_top=”” padding_bottom=”20″]Registration Is Now Closed [vc_empty_space][/vc_column][/vc_row]\n 
URL:https://adrenalinekaty.com/event/free-cheer-clinic-2/
CATEGORIES:Upcoming Events
ATTACH;FMTTYPE=image/jpeg:https://adrenalinekaty.com/wp-content/uploads/2026/03/cheer-clinic.jpg
END:VEVENT
END:VCALENDAR