BEGIN:VCALENDAR
VERSION:2.0
PRODID:-//Adrenaline All Stars - ECPv6.15.20//NONSGML v1.0//EN
CALSCALE:GREGORIAN
METHOD:PUBLISH
X-WR-CALNAME:Adrenaline All Stars
X-ORIGINAL-URL:https://adrenalinekaty.com
X-WR-CALDESC:Events for Adrenaline All Stars
REFRESH-INTERVAL;VALUE=DURATION:PT1H
X-Robots-Tag:noindex
X-PUBLISHED-TTL:PT1H
BEGIN:VTIMEZONE
TZID:America/Chicago
BEGIN:DAYLIGHT
TZOFFSETFROM:-0600
TZOFFSETTO:-0500
TZNAME:CDT
DTSTART:20230312T080000
END:DAYLIGHT
BEGIN:STANDARD
TZOFFSETFROM:-0500
TZOFFSETTO:-0600
TZNAME:CST
DTSTART:20231105T070000
END:STANDARD
BEGIN:DAYLIGHT
TZOFFSETFROM:-0600
TZOFFSETTO:-0500
TZNAME:CDT
DTSTART:20240310T080000
END:DAYLIGHT
BEGIN:STANDARD
TZOFFSETFROM:-0500
TZOFFSETTO:-0600
TZNAME:CST
DTSTART:20241103T070000
END:STANDARD
BEGIN:DAYLIGHT
TZOFFSETFROM:-0600
TZOFFSETTO:-0500
TZNAME:CDT
DTSTART:20250309T080000
END:DAYLIGHT
BEGIN:STANDARD
TZOFFSETFROM:-0500
TZOFFSETTO:-0600
TZNAME:CST
DTSTART:20251102T070000
END:STANDARD
END:VTIMEZONE
BEGIN:VEVENT
DTSTART;VALUE=DATE:20240729
DTEND;VALUE=DATE:20240802
DTSTAMP:20260422T073555
CREATED:20240213T195300Z
LAST-MODIFIED:20240624T205314Z
UID:2458-1722211200-1722556799@adrenalinekaty.com
SUMMARY:Olympics Week
DESCRIPTION:[vc_row][vc_column][vc_single_image image=”2459″ img_size=”full” alignment=”center”][vc_empty_space][vc_column_text]\nAges 6 and up. \nGet ready to unleash your inner champion at our Olympics Week Camp! Join us for an exhilarating week of sportsmanship\, teamwork\, and Olympic-inspired fun. Campers will have the chance to participate in a variety of games and challenges that celebrate the spirit of the Olympics. With opportunities to learn new skills and make friends! This summer promises to be a gold-medal experience for every young athlete. Don’t miss out on the excitement – enroll now and let the games begin! \nDate: July 29-August 1Time: 9:00am – 4:00pmAges: 6+ \nCost: $199/week \n*All purchases are final. No refunds\, exchanges\, or account credits will be given under any circumstances. There are no makeup days or refunds for missed days available. \n[/vc_column_text][vc_empty_space][vc_custom_heading text=”REGISTER NOW” font_container=”tag:h2|text_align:center|color:%23ffffff” use_theme_fonts=”yes” css=”.vc_custom_1625001535509{padding-top: 5px !important;padding-bottom: 5px !important;background-color: #cc1921 !important;}”][vc_separator style=”solid” color=”#000000″ padding_top=”10″ padding_bottom=”20″][/vc_column][/vc_row][vc_row][vc_column][vc_column_text]\n  \n  \n\n\n[/vc_column_text][/vc_column][/vc_row]
URL:https://adrenalinekaty.com/event/olympics-week/
CATEGORIES:Summer Camps
ATTACH;FMTTYPE=image/jpeg:https://adrenalinekaty.com/wp-content/uploads/2024/02/kidsoly.jpg
END:VEVENT
BEGIN:VEVENT
DTSTART;TZID=America/Chicago:20240731T100000
DTEND;TZID=America/Chicago:20240731T120000
DTSTAMP:20260422T073555
CREATED:20240314T155019Z
LAST-MODIFIED:20240416T134455Z
UID:2513-1722420000-1722427200@adrenalinekaty.com
SUMMARY:Princess Tea Party Camp
DESCRIPTION:[vc_row][vc_column][vc_single_image image=”2500″ img_size=”full” alignment=”center”][vc_empty_space][vc_column_text]\nFor ages 3-5 only. \nThis Princess Tea Party is so much fun! Your little princess gets to dress up as their favorite Princess and attend a Tea Party! Camp Includes tea party\, crafts\, games\, and much more! \nDate: July 31st\, 2024Time: 10:00am – 12:00pmAges: 3-5Cost: $25/child \n*All purchases are final. No refunds\, exchanges\, or account credits will be given under any circumstances. There are no makeup days or refunds for missed days available. \n[/vc_column_text][vc_empty_space][vc_custom_heading text=”REGISTER NOW” font_container=”tag:h2|text_align:center|color:%23ffffff” use_theme_fonts=”yes” css=”.vc_custom_1625001535509{padding-top: 5px !important;padding-bottom: 5px !important;background-color: #cc1921 !important;}”][vc_separator style=”solid” color=”#000000″ padding_top=”10″ padding_bottom=”20″]\n\n                \n                        \n							"*" indicates required fields \n                        \n                        This field is hidden when viewing the formToday's Date\n                            \n                            MM slash DD slash YYYY\n                        \n                        Parent/Guardian's Name*\n                            \n                            \n                                                    \n                                                    First\n                                                \n                            \n                            \n                                                    \n                                                    Last\n                                                \n                            \n                        Email*\n                            \n                        Phone*Address*    \n                    \n                         \n                                        \n                                        Street Address\n                                    \n                                    \n                                    City\n                                 \n                                    \n                                    ZIP Code\n                                \n                    \n                Participants\n\n	\n\n		\n		\n							\n					Child's Name				\n							\n					Age				\n						Actions\n		\n		\n\n		\n		\n							 \n							 \n						\n				\n					Edit\n										Delete\n				\n			\n		\n		\n\n		\n		\n			\n				There are no Entries.			\n		\n		\n\n	\n\n	\n				Add Participant\n				\n			\n				Maximum number of entries reached.\n			 \n\n*All purchases are final\, no refunds\, exchanges\, or account credits\, will be given under any circumstances. There are no makeup days or refunds for missed days available. This is a drop off event only!\n \nSignature*Princess Tea Party Camp Subtotal*\n					\n					\n						Price:\n						$25.00\n					\n					\n					\n				4th of July Discount\n            \n                $0.00\n                \n            Total\n							\n						Credit Card*Card Details\n					\n					Cardholder Name\n				\n			\n          \n            \n            \n            \n            \n            \n            \n            \n            \n            \n            \n            \n            \n            \n        \n                        \n                        \n		                \n		                \n[/vc_column][/vc_row][vc_row][vc_column][vc_column_text]\n  \n  \n\n\n[/vc_column_text][/vc_column][/vc_row]
URL:https://adrenalinekaty.com/event/princess-tea-party-camp/
CATEGORIES:Preschool Camps
ATTACH;FMTTYPE=image/jpeg:https://adrenalinekaty.com/wp-content/uploads/2024/03/tea.jpg
END:VEVENT
BEGIN:VEVENT
DTSTART;TZID=America/Chicago:20240731T150000
DTEND;TZID=America/Chicago:20240731T163000
DTSTAMP:20260422T073555
CREATED:20240513T141243Z
LAST-MODIFIED:20240515T162734Z
UID:2556-1722438000-1722443400@adrenalinekaty.com
SUMMARY:Tuck Clinic
DESCRIPTION:[vc_row][vc_column][vc_single_image image=”2304″ img_size=”full” alignment=”center”][vc_empty_space][vc_column_text]\nDuring this fun clinic\, we’ll focus on spotted skills and drills that will help your child get his or her tuck. We will teach and perfect body positions such as candlestick and hollow body – as well as show athletes drills\, they can work on at home to perfect their skills. \n*Pre-requisites: Roundoff 3 Back Handsprings\, Standing 3 Back Handsprings.Handsprings must be strong enough to be working on a tuck at a minimum. \nDate: 7/31/2024Time: 3:00pm – 4:30pmAge: 5+Cost: $25 per child \n*All purchases are final. No refunds\, exchanges\, or account credits will be given under any circumstances. There are no makeup days or refunds for missed days available. \n[/vc_column_text][vc_empty_space][vc_custom_heading text=”REGISTER NOW” font_container=”tag:h2|text_align:center|color:%23ffffff” use_theme_fonts=”yes” css=”.vc_custom_1625001535509{padding-top: 5px !important;padding-bottom: 5px !important;background-color: #cc1921 !important;}”][vc_separator style=”solid” color=”#000000″ padding_top=”10″ padding_bottom=”20″][/vc_column][/vc_row][vc_row][vc_column][vc_column_text]\n  \n  \n\n\n[/vc_column_text][/vc_column][/vc_row]
URL:https://adrenalinekaty.com/event/tuck-clinic-4/
CATEGORIES:Summer Skills
ATTACH;FMTTYPE=image/jpeg:https://adrenalinekaty.com/wp-content/uploads/2023/11/67140283_2731525386877195_3714139266331181056_n.jpeg
END:VEVENT
END:VCALENDAR